BEGIN:VCALENDAR
VERSION:2.0
PRODID:-//Das Atelier - ECPv6.13.0//NONSGML v1.0//EN
CALSCALE:GREGORIAN
METHOD:PUBLISH
X-WR-CALNAME:Das Atelier
X-ORIGINAL-URL:https://www.stoff-versand.de
X-WR-CALDESC:Veranstaltungen für Das Atelier
REFRESH-INTERVAL;VALUE=DURATION:PT1H
X-Robots-Tag:noindex
X-PUBLISHED-TTL:PT1H
BEGIN:VTIMEZONE
TZID:Europe/Berlin
BEGIN:DAYLIGHT
TZOFFSETFROM:+0100
TZOFFSETTO:+0200
TZNAME:CEST
DTSTART:20250330T010000
END:DAYLIGHT
BEGIN:STANDARD
TZOFFSETFROM:+0200
TZOFFSETTO:+0100
TZNAME:CET
DTSTART:20251026T010000
END:STANDARD
END:VTIMEZONE
BEGIN:VEVENT
DTSTART;TZID=Europe/Berlin:20251204T180000
DTEND;TZID=Europe/Berlin:20251204T210000
DTSTAMP:20260420T011821
CREATED:20251121T104644Z
LAST-MODIFIED:20251121T104644Z
UID:14778-1764871200-1764882000@www.stoff-versand.de
SUMMARY:Offener Nähkurs für Erwachsene
DESCRIPTION:Dieser Kurs ist offen für Anfänger und Fortgeschrittene. \nJeder Teilnehmer näht sein eigenes Wunschprojekt und bekommt bei Bedarf Hilfe und Unterstützung. \nMaterial kann im Kurs hier gekauft werden. \nIm Kurs sind Getränke und Snacks enthalten. \nNähmaschine sollte mitgebracht werden.\, kann aber auch hier gegen Gebühr geliehen werden. \nWenn man Interesse an einer neuen Maschine hat\, darf man selbstverständlich verschiedene Modelle ausprobieren. Die Leihgebühr wird beim Kauf erstattet. \nDer Kurs wird verbindlich gebucht und kann leider nicht zurückerstattet werden. Aber das Ticket ist übertragbar und gerne kann man einen Ersatz-Teilnehmer schicken.
URL:https://www.stoff-versand.de/veranstaltung/offener-naehkurs-fuer-erwachsene-6/
LOCATION:Das Atelier\, Friedrichstr. 11\, Eberbach\, 69412\, Deutschland
CATEGORIES:Anfängerkurs,Fortgeschrittenen Kurs,Leicht fortgeschrittenen Kurs
ORGANIZER;CN="Das Atelier":MAILTO:info@stoff-versand.de
END:VEVENT
END:VCALENDAR