BEGIN:VCALENDAR
VERSION:2.0
PRODID:-//Das Atelier - ECPv6.13.0//NONSGML v1.0//EN
CALSCALE:GREGORIAN
METHOD:PUBLISH
X-ORIGINAL-URL:https://www.stoff-versand.de
X-WR-CALDESC:Veranstaltungen für Das Atelier
REFRESH-INTERVAL;VALUE=DURATION:PT1H
X-Robots-Tag:noindex
X-PUBLISHED-TTL:PT1H
BEGIN:VTIMEZONE
TZID:Europe/Berlin
BEGIN:DAYLIGHT
TZOFFSETFROM:+0100
TZOFFSETTO:+0200
TZNAME:CEST
DTSTART:20240331T010000
END:DAYLIGHT
BEGIN:STANDARD
TZOFFSETFROM:+0200
TZOFFSETTO:+0100
TZNAME:CET
DTSTART:20241027T010000
END:STANDARD
END:VTIMEZONE
BEGIN:VEVENT
DTSTART;TZID=Europe/Berlin:20241031T180000
DTEND;TZID=Europe/Berlin:20241031T210000
DTSTAMP:20260421T004528
CREATED:20240904T142343Z
LAST-MODIFIED:20240912T073720Z
UID:14087-1730397600-1730408400@www.stoff-versand.de
SUMMARY:Overlock und Coverlockkurs für Erwachsene
DESCRIPTION:Du nähst schon\, hast aber keine Erfahrung mit einer Overlock-Maschine? \nIn diesem Kurs lernt man den Umgang mit dieser tollen Spezialmaschine. \nUnd zum Komplettieren des Nähmaschinen-Fuhrparks lernst Du auch noch eine Coverlockmaschine kennen. \n\nWas sind die Unterschiede zwischen Overlock und Coverlock?\nWie werden diese beiden Maschinen eingesetzt und verwendet?\n\nIn diesem Kurs arbeiten wir nur an unseren Vorführmaschinen. \nFremdfabrikate können in diesem Kurs nicht besprochen werden! \nDie Materialien sind in der Kursgebühr enthalten! \nGetränke und Snacks sind im Kurs inbegriffen. \nDer Kurs wird verbindlich gebucht und kann leider nicht zurückerstattet werden. Aber das Ticket ist übertragbar und gerne kann man einen Ersatz-Teilnehmer schicken. Bitte kurze Info!
URL:https://www.stoff-versand.de/veranstaltung/overlock-und-coverlockkurs-fuer-erwachsene/
LOCATION:Das Atelier\, Friedrichstr. 11\, Eberbach\, 69412\, Deutschland
CATEGORIES:Anfängerkurs
ORGANIZER;CN="Das Atelier":MAILTO:info@stoff-versand.de
END:VEVENT
END:VCALENDAR