BEGIN:VCALENDAR
VERSION:2.0
PRODID:-//Das Atelier - ECPv6.13.0//NONSGML v1.0//EN
CALSCALE:GREGORIAN
METHOD:PUBLISH
X-ORIGINAL-URL:https://www.stoff-versand.de
X-WR-CALDESC:Veranstaltungen für Das Atelier
REFRESH-INTERVAL;VALUE=DURATION:PT1H
X-Robots-Tag:noindex
X-PUBLISHED-TTL:PT1H
BEGIN:VTIMEZONE
TZID:Europe/Berlin
BEGIN:DAYLIGHT
TZOFFSETFROM:+0100
TZOFFSETTO:+0200
TZNAME:CEST
DTSTART:20240331T010000
END:DAYLIGHT
BEGIN:STANDARD
TZOFFSETFROM:+0200
TZOFFSETTO:+0100
TZNAME:CET
DTSTART:20241027T010000
END:STANDARD
END:VTIMEZONE
BEGIN:VEVENT
DTSTART;TZID=Europe/Berlin:20240606T180000
DTEND;TZID=Europe/Berlin:20240606T210000
DTSTAMP:20260421T072132
CREATED:20240417T094428Z
LAST-MODIFIED:20240417T094547Z
UID:12965-1717696800-1717707600@www.stoff-versand.de
SUMMARY:Sommershirt nähen
DESCRIPTION:Wir nähen ein einfaches Shirt. \nSchnittvorbereitung\, Ausmessen\, Zuschnitt\, Nähen \nDieser Kurs ist für Anfänger sehr gut geeignet. \nNähmaschine und Werkzeug bitte mitbringen. Falls Sie keine Maschine haben\, können Sie bei uns Eine leihen oder auch kaufen. \nDie Kursgebühr ist bei der Buchung hier fällig und die Materialkosten werden dann am Kurstag abgerechnet. \nDer Kursplatz ist  dann reserviert und die Anmeldung verbindlich. \nBei Nichtteilnahme ist eine Rückerstattung nicht möglich. \nSie haben die Möglichkeit\, dass Sie einen „Ersatz-Teilnehmer“ schicken\, die Buchung ist also übertragbar. \n  \nGetränke und Snacks sind im Kurs inbegriffen. \nFoto ist nur ein Schnittbeispiel! \n 
URL:https://www.stoff-versand.de/veranstaltung/sommershirt-naehen/
LOCATION:Das Atelier\, Friedrichstr. 11\, Eberbach\, 69412\, Deutschland
CATEGORIES:Anfängerkurs
ORGANIZER;CN="Das Atelier":MAILTO:info@stoff-versand.de
END:VEVENT
BEGIN:VEVENT
DTSTART;TZID=Europe/Berlin:20240608T093000
DTEND;TZID=Europe/Berlin:20240608T143000
DTSTAMP:20260421T072132
CREATED:20240208T135112Z
LAST-MODIFIED:20240607T141217Z
UID:12060-1717839000-1717857000@www.stoff-versand.de
SUMMARY:Hosenkurs
DESCRIPTION:In diesem Kurs nähen wir eine gemütliche Hose nach Maß. \nRichtiges Maßnehmen\, Schnittvorbereitung\, Zuschnitt und Fertigung: \nBananen-Taschen und Bündchenverabeitung oder Gummibund sind hier das Lernziel. \nUmgang mit der Nähmaschine und leichte Nähkenntnisse sollten vorhanden sein. \nAm Ende des Kurses hat jeder Teilnehmer seine „massgeschneiderte” Hose und auch das eigene Schnittmuster\, um zuhause seine Kollektion zu erweitern. \nDie Kursgebühr ist gleich bei der Buchung hier fällig und die Materialkosten werden dann am Kurstag abgerechnet. \n  \nGetränke und Snacks sind im Kurs inbegriffen. \nDie Vergabe der Plätze erfolgt nach Reihenfolge der Anmeldung. Bei Anmeldung ist auch gleich die Kursgebühr zu entrichten\, damit ist ein Kursplatz reserviert und die Anmeldung ist verbindlich. Bei Nichtteilnahme besteht die Möglichkeit\, dass Sie einen „Ersatz-Teilnehmer“ schicken\, eine Rückerstattung ist nicht möglich.
URL:https://www.stoff-versand.de/veranstaltung/12060/
LOCATION:Das Atelier\, Friedrichstr. 11\, Eberbach\, 69412\, Deutschland
ORGANIZER;CN="Das Atelier":MAILTO:info@stoff-versand.de
END:VEVENT
BEGIN:VEVENT
DTSTART;TZID=Europe/Berlin:20240615T120000
DTEND;TZID=Europe/Berlin:20240615T160000
DTSTAMP:20260421T072132
CREATED:20240517T080414Z
LAST-MODIFIED:20240517T080739Z
UID:13395-1718452800-1718467200@www.stoff-versand.de
SUMMARY:2. Atelier-Sticktag
DESCRIPTION:Zu diesem Event laden wir NUR KUNDEN ein\, die bei uns eine Stickmaschine gekauft haben! \nWir stellen verschiedene Projekte und Techniken vor. \nErzählen viel rund um die Maschinenstickerei und wir sticken gemeinsam -jeder auf seiner Maschine. \nDiese Veranstaltung ist kostenfrei. \nMitzubringen ist alles\, was Ihr zum Sticken braucht.- Was fehlt\, könnt Ihr dann bei uns bekommen. \n  \nGetränke und Nervennahrung gibt es wie immer! \nDie Anmeldung ist verbindlich \nWir möchten Euch bitten\, an dem Tag dann auch den Kurs zu besuchen und nicht den Platz blockieren und nicht kommen! \nEs gibt nur eine begrenzte Anzahl an Plätzen \n  \n 
URL:https://www.stoff-versand.de/veranstaltung/2-atelier-sticktag/
LOCATION:Das Atelier\, Friedrichstr. 11\, Eberbach\, 69412\, Deutschland
CATEGORIES:Anfängerkurs,Maschinen-Stickkurs
ORGANIZER;CN="Das Atelier":MAILTO:info@stoff-versand.de
END:VEVENT
BEGIN:VEVENT
DTSTART;TZID=Europe/Berlin:20240620T180000
DTEND;TZID=Europe/Berlin:20240620T200000
DTSTAMP:20260421T072132
CREATED:20240417T101005Z
LAST-MODIFIED:20240513T075629Z
UID:12970-1718906400-1718913600@www.stoff-versand.de
SUMMARY:Schnittmuster-Kurs
DESCRIPTION:Ausmessen der Körpermaße und Ermittlung der passenden Größe. \nWie arbeitet man mit Fertigschnitten? \nIn diesem Kurs bekommt man eine Einführung in die Geheimnisse von Schnittmustern aus \nZeitschriften und Fertig-Kaufschnitten. \nVerschiedenen Möglichkeiten Schnitte vorzubereiten und auch zu archivieren. \n  \nBitte Maßband\, Lineal und Bleistift mitbringen. Ein großes Geodreieck ist kein MUSS\, aber von Vorteil (Kann auch am Kurstag hier erworben werden). \n  \nMaterialkosten sind im Kurspreis inbegriffen. \nDie Kursgebühr ist bei der Buchung hier fällig. Der Kursplatz ist dann reserviert und die Anmeldung verbindlich. \nBei Nichtteilnahme ist eine Rückerstattung nicht möglich. \nSie haben die Möglichkeit\, dass Sie einen „Ersatz-Teilnehmer“ schicken\, die Buchung ist also übertragbar. \n  \nGetränke und Snacks sind im Kurs inbegriffen.
URL:https://www.stoff-versand.de/veranstaltung/schnittmuster-kurs/
LOCATION:Das Atelier\, Friedrichstr. 11\, Eberbach\, 69412\, Deutschland
CATEGORIES:Anfängerkurs
ORGANIZER;CN="Das Atelier":MAILTO:info@stoff-versand.de
END:VEVENT
BEGIN:VEVENT
DTSTART;TZID=Europe/Berlin:20240627T180000
DTEND;TZID=Europe/Berlin:20240627T210000
DTSTAMP:20260421T072132
CREATED:20240417T103859Z
LAST-MODIFIED:20240417T103859Z
UID:12972-1719511200-1719522000@www.stoff-versand.de
SUMMARY:Slip nähen aus Jersey-Resten
DESCRIPTION:Wer Jersey verarbeitet hat immer wieder schöne Reststücke\, die oft noch für einen Slip ausreichen. \nWir nähen in diesem Kurs bequeme und passende Damen-Slips. \nSchnittvorbereitung\, Zuschnitt und Fertigung. \nDieser Kurs ist leicht fortgeschrittene Hobbyschneiderinnen. \nNähmaschine und Werkzeug bitte mitbringen. \nDie Kursgebühr ist bei der Buchunh hier fällig und die Materialkosten werden dann am Kurstag abgerechnet. \nDer Kursplatz ist dann reserviert und die Anmeldung verbindlich. \nBei Nichtteilnahme ist eine Rückerstattung nicht möglich. \nSie haben die Möglichkeit\, dass sie einen „Ersatz-Teilnehmer“ schicken\, die Buchung ist also übertragbar. \n  \nGetränke und Snacks sind im Kurs enthalten. \n 
URL:https://www.stoff-versand.de/veranstaltung/slip-naehen-aus-jersey-resten/
LOCATION:Das Atelier\, Friedrichstr. 11\, Eberbach\, 69412\, Deutschland
CATEGORIES:Erwachsenennähkurs,Leicht fortgeschrittenen Kurs
ORGANIZER;CN="Das Atelier":MAILTO:info@stoff-versand.de
END:VEVENT
END:VCALENDAR