BEGIN:VCALENDAR
VERSION:2.0
PRODID:-//Das Atelier - ECPv6.13.0//NONSGML v1.0//EN
CALSCALE:GREGORIAN
METHOD:PUBLISH
X-WR-CALNAME:Das Atelier
X-ORIGINAL-URL:https://www.stoff-versand.de
X-WR-CALDESC:Veranstaltungen für Das Atelier
REFRESH-INTERVAL;VALUE=DURATION:PT1H
X-Robots-Tag:noindex
X-PUBLISHED-TTL:PT1H
BEGIN:VTIMEZONE
TZID:Europe/Berlin
BEGIN:DAYLIGHT
TZOFFSETFROM:+0100
TZOFFSETTO:+0200
TZNAME:CEST
DTSTART:20240331T010000
END:DAYLIGHT
BEGIN:STANDARD
TZOFFSETFROM:+0200
TZOFFSETTO:+0100
TZNAME:CET
DTSTART:20241027T010000
END:STANDARD
END:VTIMEZONE
BEGIN:VEVENT
DTSTART;TZID=Europe/Berlin:20240523T180000
DTEND;TZID=Europe/Berlin:20240523T210000
DTSTAMP:20260421T084858
CREATED:20240417T091111Z
LAST-MODIFIED:20240513T075900Z
UID:12957-1716487200-1716498000@www.stoff-versand.de
SUMMARY:Änderungen und Reparaturen von Kleidungsstücken
DESCRIPTION:In diesem Kurs werden wir: \nEine Hose kürzen\, einen Riss oder ein Loch reparieren\, einen Reissverschluss an einer Hose erneuern\, ein Shirt seitl. enger nähen und kürzen…. \nDa wir im Vorfeld nicht abschätzen können\, wie viele Themen wir innerhalb Kurszeit schaffen\, haben wir  verschiedene Themen aufgenommen und müssen dann schauen\, wie weit wir kommen. \nDies hängt auch vom Können und der Schnelligkeit der Teilnehmer ab. \nBitte für diesen Kurs folgende ausgemusterte Kleidungsstücke mitbringen\, an denen wir uns ausprobieren und üben können: \nEine Hose -Stoff oder Jeans und ein Shirt -Jersey \nNähmaschine\, Material und Werkzeug bitte mitbringen. Falls Sie keine Nähmaschine haben\, können Sie bei uns Eine leihen oder auch kaufen. \nAlles was fehlt\, kann dann während des Kurses erworben werden. \n  \nGetränke und Snacks sind im Kurs inbegriffen. \nBei der Anmeldung ist die Kursgebühr gleich fällig. Der Kursplatz ist dann reserviert und die Anmeldung verbindlich. Bei Nichtteilnahme ist eine Rückerstattung nicht möglich. Sie haben die Möglichkeit\, dass Sie einen „Ersatz-Teilnehmer“ schicken\, die Buchung ist also übertragbar.
URL:https://www.stoff-versand.de/veranstaltung/aenderungen-und-reparaturen-von-kleidungsstuecken/
LOCATION:Das Atelier\, Friedrichstr. 11\, Eberbach\, 69412\, Deutschland
CATEGORIES:Anfängerkurs
ORGANIZER;CN="Das Atelier":MAILTO:info@stoff-versand.de
END:VEVENT
END:VCALENDAR