BEGIN:VCALENDAR
VERSION:2.0
PRODID:-//Das Atelier - ECPv6.13.0//NONSGML v1.0//EN
CALSCALE:GREGORIAN
METHOD:PUBLISH
X-ORIGINAL-URL:https://www.stoff-versand.de
X-WR-CALDESC:Veranstaltungen für Das Atelier
REFRESH-INTERVAL;VALUE=DURATION:PT1H
X-Robots-Tag:noindex
X-PUBLISHED-TTL:PT1H
BEGIN:VTIMEZONE
TZID:Europe/Berlin
BEGIN:DAYLIGHT
TZOFFSETFROM:+0100
TZOFFSETTO:+0200
TZNAME:CEST
DTSTART:20240331T010000
END:DAYLIGHT
BEGIN:STANDARD
TZOFFSETFROM:+0200
TZOFFSETTO:+0100
TZNAME:CET
DTSTART:20241027T010000
END:STANDARD
END:VTIMEZONE
BEGIN:VEVENT
DTSTART;TZID=Europe/Berlin:20240406T093000
DTEND;TZID=Europe/Berlin:20240406T120000
DTSTAMP:20260421T104129
CREATED:20240208T100830Z
LAST-MODIFIED:20240404T135852Z
UID:12052-1712395800-1712404800@www.stoff-versand.de
SUMMARY:Nähmaschinenführerschein – Kurs für Erwachsene
DESCRIPTION:Zertifikat Nähmaschinenführerschein\nDieser Kurs richtet sich an Nähanfänger. \nIn diesem Kurs erlernt man grundlegende Kenntnisse und den sicheren Umgang mit Ihrer Nähmaschine. \nEinfädeln\, Spulen\, Nadelwahl\, Fadenspannung\, Nutz- und Zierstiche usw. \nAuch wenn Sie bereits erste Näherfahrungen gesammelt habt\, ist dieser Kurs trotzdem sicher hilfreich und den einen oder anderen Trick und Kniff kennt Ihr bestimmt noch nicht ! \nAm Ende des Kurses wird auch noch ein kleines Werkstück angefertigt und die neuen Nähkenntnisse werden gleich angewendet. \nDas Material hierfür ist im Kurs inbegriffen. \nDie Nähmaschine sollte mitgebracht werden. Wir sprechen sie einmal komplett durch und erklären alles\, dass Sie danach fit sind und sofort loslegen können. \nFalls keine Nähmaschine vorhanden\, kann bei uns auch eine gegen Gebühr geliehen werden. Bei Bedarf beraten wir auch und verkaufen die passende Maschine. \nDer Nähmaschinenführerschein bildet die Grundlage für unsere weiteren Nähkurse. \nGetränke und Snacks sind im Kurs inbegriffen. \nDie Vergabe der Plätze erfolgt nach Reihenfolge der Anmeldung. Bei Anmeldung ist auch gleich die Kursgebühr zu entrichten\, damit ist ein Kursplatz reserviert und die Anmeldung ist verbindlich. Bei Nichtteilnahme besteht die Möglichkeit\, dass Sie einen „Ersatz-Teilnehmer“ schicken\, eine Rückerstattung ist nicht möglich.
URL:https://www.stoff-versand.de/veranstaltung/naehmaschinenfuehrerschein-kurs-fuer-erwachsene-5/
LOCATION:Das Atelier\, Friedrichstr. 11\, Eberbach\, 69412\, Deutschland
ORGANIZER;CN="Das Atelier":MAILTO:info@stoff-versand.de
END:VEVENT
BEGIN:VEVENT
DTSTART;TZID=Europe/Berlin:20240413T093000
DTEND;TZID=Europe/Berlin:20240413T123000
DTSTAMP:20260421T104129
CREATED:20240226T141138Z
LAST-MODIFIED:20240403T091835Z
UID:12642-1713000600-1713011400@www.stoff-versand.de
SUMMARY:Mädchen-Nähkurs
DESCRIPTION:Wir nähen\, wie gewünscht einen Kosmetikbeutel mit Reissverschluss. \nDas Material ist im Kurs inbegriffen.\nDie Nähmaschine sollte mitgebracht werden.\nFalls keine Maschine vorhanden\, kann bei uns auch eine Maschine gegen Gebühr geliehen werden.\nBei Bedarf beraten wir auch und verkaufen die passende Maschine. \nKenntnisse sind Voraussetzung. \nGetränke und Snacks sind im Kurs inbegriffen. \nDie Anmeldung ist verbindlich und sofort zahlbar.\nDamit ist der Kursplatz reserviert.\nBei Nichtteilnahme besteht die Möglichkeit\, dass Sie einen „Ersatz-Teilnehmer“ schicken\, eine Rückerstattung ist nicht möglich.
URL:https://www.stoff-versand.de/veranstaltung/maedchen-naehkurs/
LOCATION:Das Atelier\, Friedrichstr. 11\, Eberbach\, 69412\, Deutschland
ORGANIZER;CN="Das Atelier":MAILTO:info@stoff-versand.de
END:VEVENT
END:VCALENDAR