BEGIN:VCALENDAR
VERSION:2.0
PRODID:-//Das Atelier - ECPv6.13.0//NONSGML v1.0//EN
CALSCALE:GREGORIAN
METHOD:PUBLISH
X-ORIGINAL-URL:https://www.stoff-versand.de
X-WR-CALDESC:Veranstaltungen für Das Atelier
REFRESH-INTERVAL;VALUE=DURATION:PT1H
X-Robots-Tag:noindex
X-PUBLISHED-TTL:PT1H
BEGIN:VTIMEZONE
TZID:Europe/Berlin
BEGIN:DAYLIGHT
TZOFFSETFROM:+0100
TZOFFSETTO:+0200
TZNAME:CEST
DTSTART:20240331T010000
END:DAYLIGHT
BEGIN:STANDARD
TZOFFSETFROM:+0200
TZOFFSETTO:+0100
TZNAME:CET
DTSTART:20241027T010000
END:STANDARD
END:VTIMEZONE
BEGIN:VEVENT
DTSTART;VALUE=DATE:20240308
DTEND;VALUE=DATE:20240311
DTSTAMP:20260421T120735
CREATED:20230919T141731Z
LAST-MODIFIED:20240417T084247Z
UID:11052-1709856000-1710115199@www.stoff-versand.de
SUMMARY:Eberbach näht...2024
DESCRIPTION:Triff Menschen\, die das gleiche tolle Hobby haben\, wie Du: Nähen mit Spaß und Leidenschaft!\nWir organisieren das Nähevent und Ihr näht Euch gemeinsam glücklich!\n  \nGenäht wird am Freitag\, 08.03.2024 von 14:00-18:00 Uhr\, Samstag\, 09.03.2024 von 10:00-18:00 Uhr und Sonntag\, 10.03.2024 von 10:00-16:00 Uhr in einem großen\, hellen Saal ganz in der Nähe unseres Geschäftes. \nParkmöglichkeiten sind vorhanden. \nFür kalte Getränke\, Tee und Kaffee wird gesorgt. Ebenso für ein gemeinsames Mittagessen und Kuchen am Nachmittag. \nEin Frühstückscafé gibt es direkt neben unserer Location und es sind auch Restaurants in Laufnähe vorhanden\, da wir mitten in der Innenstadt sind. Am Sonntag findet parallel ein Kreativmarkt in der Stadthalle gegenüber statt und es ist verkaufsoffener Sonntag. \nWas Du mitbringst: \n\nDeine Nähmaschine(n)\nAlles für Deine geplanten Näh-Projekte (Stoffe\, Zutaten\, Schnitte usw.)\nEventuell unvollendete Nähprojekte – bei denen man einfach einmal einen Schubs braucht\, eine gute Idee oder das Wissen der Anderen.\n\nÜbernachtungen: \nWer eine Übernachtungsmöglichkeit sucht\, bekommt von uns eine Liste mit Adressen \, Kontaktdaten und auch Rabattcodes verschiedener Hotels und Pensionen. \nTickets: \nDie Tickets für dieses Event sind hier in unserem Webshop direkt unten auf dieser Seite buchbar. Das 3-Tage-Ticket kostet bei (Früh-)Buchung bis zum 01.01.2024: 129€\, danach dann den regulären Preis von 149€ \n  \nEs werden Gratis-Workshops angeboten  – hierzu stecken wir noch mitten in der Planung. \nVerschiedene Firmen (Nähmaschinen\, Zutaten) werden einen Info-Stand auf der Veranstaltung haben. Jeder Teilnehmer erhält auch ein gut gefülltes Goodie-Bag von uns! \nAb zwei Wochen vor der Veranstaltung kannst Du Dich in unserem Stoffgeschäft „Das Atelier“ in Eberbach rund um Stoffe\, Zutaten und Nähmaschinen beraten lassen und zum Aktionspreis alles für Dein geplantes Nähprojekt einkaufen. \nDies gilt natürlich auch für unseren Onlineshop www.stoff-versand.de \nNimm Dir Zeit für Dich und Dein Hobby! Ran an die Nähmaschine\, knüpfe neue Kontakte\, finde neue Bekannte und vielleicht auch Freunde! \nWir freuen uns riesig auf Dein Kommen und auf ein kreatives\, gemeinsames Wochenende in Eberbach! \nTIPP: \nÜbrigens ist an diesem Sonntag in Eberbach verkaufsoffen und in der Stadthalle ist ein Handwerks- und Kreativmarkt\, den man besuchen sollte!
URL:https://www.stoff-versand.de/veranstaltung/eberbach-naeht/
LOCATION:Eberbach näht/Stadthalle\, Eberbach\, Baden-Württemberg\, 69412
CATEGORIES:Näh-Treffen
ORGANIZER;CN="Das Atelier":MAILTO:info@stoff-versand.de
END:VEVENT
BEGIN:VEVENT
DTSTART;TZID=Europe/Berlin:20240316T093000
DTEND;TZID=Europe/Berlin:20240316T120000
DTSTAMP:20260421T120735
CREATED:20240208T093529Z
LAST-MODIFIED:20240208T093529Z
UID:12047-1710581400-1710590400@www.stoff-versand.de
SUMMARY:Nähmaschinenführerschein – Kurs für Kids
DESCRIPTION:Zertifikat Nähmaschinenführerschein\nDieser Kurs richtet sich an junge Nähanfänger. \nIn diesem Kurs erlernt man grundlegende Kenntnisse und den sicheren Umgang mit Eurer Nähmaschine. \nEinfädeln\, Spulen\, Nadelwahl\, Fadenspannung\, Nutz- und Zierstiche usw. \nAuch wenn Ihr bereits erste Näherfahrungen gesammelt habt\, ist dieser Kurs trotzdem sicher hilfreich und den einen oder anderen Trick und Kniff kennt Ihr bestimmt noch nicht ! \nAm Ende des Kurses wird auch noch ein kleines Werkstück angefertigt und die neuen Nähkenntnisse werden gleich angewendet. \nDas Material hierfür ist im Kurs inbegriffen. \nDie Nähmaschine sollte mitgebracht werden. Wir sprechen sie einmal komplett durch und erklären alles\, dass Ihr danach fit seid und sofort loslegen könnt. \nFalls keine Nähmaschine vorhanden\, kann bei uns auch eine gegen Gebühr geliehen werden. Bei Bedarf beraten wir auch und verkaufen die passende Maschine. \nDer Nähmaschinenführerschein bildet die Grundlage für unsere weiteren Nähkurse. \nGetränke und Snacks sind im Kurs inbegriffen. \nDie Vergabe der Plätze erfolgt nach Reihenfolge der Anmeldung. Bei Anmeldung ist auch gleich die Kursgebühr zu entrichten\, damit ist ein Kursplatz reserviert und die Anmeldung ist verbindlich. Bei Nichtteilnahme besteht die Möglichkeit\, dass Sie einen “Ersatz-Teilnehmer” schicken\, eine Rückerstattung ist nicht möglich.
URL:https://www.stoff-versand.de/veranstaltung/naehmaschinenfuehrerschein-kurs-fuer-kids-5/
LOCATION:Das Atelier\, Friedrichstr. 11\, Eberbach\, 69412\, Deutschland
ORGANIZER;CN="Das Atelier":MAILTO:info@stoff-versand.de
END:VEVENT
END:VCALENDAR