BEGIN:VCALENDAR
VERSION:2.0
PRODID:-//Das Atelier - ECPv6.13.0//NONSGML v1.0//EN
CALSCALE:GREGORIAN
METHOD:PUBLISH
X-ORIGINAL-URL:https://www.stoff-versand.de
X-WR-CALDESC:Veranstaltungen für Das Atelier
REFRESH-INTERVAL;VALUE=DURATION:PT1H
X-Robots-Tag:noindex
X-PUBLISHED-TTL:PT1H
BEGIN:VTIMEZONE
TZID:Europe/Berlin
BEGIN:DAYLIGHT
TZOFFSETFROM:+0100
TZOFFSETTO:+0200
TZNAME:CEST
DTSTART:20230326T010000
END:DAYLIGHT
BEGIN:STANDARD
TZOFFSETFROM:+0200
TZOFFSETTO:+0100
TZNAME:CET
DTSTART:20231029T010000
END:STANDARD
END:VTIMEZONE
BEGIN:VEVENT
DTSTART;TZID=Europe/Berlin:20231010T180000
DTEND;TZID=Europe/Berlin:20231010T203000
DTSTAMP:20260421T204332
CREATED:20230829T073614Z
LAST-MODIFIED:20230829T073801Z
UID:11034-1696960800-1696969800@www.stoff-versand.de
SUMMARY:Nähmaschinenführerschein - Kurs für Erwachsene
DESCRIPTION:Zertifikat Nähmaschinenführerschein\nDieser Kurs richtet sich an Nähanfänger. \nIn diesem Kurs erlernt man grundlegende Kenntnisse und den sicheren Umgang mit Ihrer Nähmaschine. \nEinfädeln\, Spulen\, Nadelwahl\, Fadenspannung\, Nutz- und Zierstiche usw. \nAuch wenn Sie bereits erste Näherfahrungen gesammelt habt\, ist dieser Kurs trotzdem sicher hilfreich und den einen oder anderen Trick und Kniff kennt Ihr bestimmt noch nicht ! \nAm Ende des Kurses wird auch noch ein kleines Werkstück angefertigt und die neuen Nähkenntnisse werden gleich angewendet. \nDas Material hierfür ist im Kurs inbegriffen. \nDie Nähmaschine sollte mitgebracht werden. Wir sprechen sie einmal komplett durch und erklären alles\, dass Sie danach fit sind und sofort loslegen können. \nFalls keine Nähmaschine vorhanden\, kann bei uns auch eine gegen Gebühr geliehen werden. Bei Bedarf beraten wir auch und verkaufen die passende Maschine. \nDer Nähmaschinenführerschein bildet die Grundlage für unsere weiteren Nähkurse. \nGetränke und Snacks sind im Kurs inbegriffen. \nDie Vergabe der Plätze erfolgt nach Reihenfolge der Anmeldung. Bei Anmeldung ist auch gleich die Kursgebühr zu entrichten\, damit ist ein Kursplatz reserviert und die Anmeldung ist verbindlich. Bei Nichtteilnahme besteht die Möglichkeit\, dass Sie einen „Ersatz-Teilnehmer“ schicken\, eine Rückerstattung ist nicht möglich.
URL:https://www.stoff-versand.de/veranstaltung/naehmaschinenfuehrerschein-kurs-fuer-erwachsene-4/
LOCATION:Das Atelier\, Friedrichstr. 11\, Eberbach\, 69412\, Deutschland
ORGANIZER;CN="Das Atelier":MAILTO:info@stoff-versand.de
END:VEVENT
BEGIN:VEVENT
DTSTART;TZID=Europe/Berlin:20231019T180000
DTEND;TZID=Europe/Berlin:20231019T210000
DTSTAMP:20260421T204332
CREATED:20230829T080235Z
LAST-MODIFIED:20230829T080441Z
UID:11041-1697738400-1697749200@www.stoff-versand.de
SUMMARY:Bauchtaschenkurs -Kurs für Erwachsene
DESCRIPTION:2-Tages-Kurs!! \nTermine: \n19.Oktober 2023 von 18-21 Uhr \n26.Oktober 2023 von 18-21 Uhr \n  \nWir nähen eine moderne Bauchtasche mit Reißverschluss. Entweder als typische Bauchtasche oder eben auch cool getragen cross over. \nSie ist gefüttert und hat 2 verschiedene Reißverschluss-Verarbeitungen. \nUmgang mit der Nähmaschine und  Nähkenntnisse sollten vorhanden sein. \nDie Kursgebühr ist gleich bei der Buchung hier fällig und die Materialkosten werden dann am Kurstag abgerechnet. \n  \nGetränke und Snacks sind im Kurs inbegriffen. \nDie Vergabe der Plätze erfolgt nach Reihenfolge der Anmeldung. Bei Anmeldung ist auch gleich die Kursgebühr zu entrichten\, damit ist ein Kursplatz reserviert und die Anmeldung ist verbindlich. Bei Nichtteilnahme besteht die Möglichkeit\, dass Sie einen „Ersatz-Teilnehmer“ schicken\, eine Rückerstattung ist nicht möglich.
URL:https://www.stoff-versand.de/veranstaltung/bauchtaschenkurs-kurs-fuer-erwachsene-2/
LOCATION:Das Atelier\, Friedrichstr. 11\, Eberbach\, 69412\, Deutschland
ORGANIZER;CN="Das Atelier":MAILTO:info@stoff-versand.de
END:VEVENT
BEGIN:VEVENT
DTSTART;TZID=Europe/Berlin:20231028T093000
DTEND;TZID=Europe/Berlin:20231028T120000
DTSTAMP:20260421T204332
CREATED:20230829T083851Z
LAST-MODIFIED:20230911T082347Z
UID:11047-1698485400-1698494400@www.stoff-versand.de
SUMMARY:Nähmaschinenführerschein - Kurs für Kids
DESCRIPTION:Zertifikat Nähmaschinenführerschein\nDieser Kurs richtet sich an junge Nähanfänger. \nIn diesem Kurs erlernt man grundlegende Kenntnisse und den sicheren Umgang mit Eurer Nähmaschine. \nEinfädeln\, Spulen\, Nadelwahl\, Fadenspannung\, Nutz- und Zierstiche usw. \nAuch wenn Ihr bereits erste Näherfahrungen gesammelt habt\, ist dieser Kurs trotzdem sicher hilfreich und den einen oder anderen Trick und Kniff kennt Ihr bestimmt noch nicht ! \nAm Ende des Kurses wird auch noch ein kleines Werkstück angefertigt und die neuen Nähkenntnisse werden gleich angewendet. \nDas Material hierfür ist im Kurs inbegriffen. \nDie Nähmaschine sollte mitgebracht werden. Wir sprechen sie einmal komplett durch und erklären alles\, dass Ihr danach fit seid und sofort loslegen könnt. \nFalls keine Nähmaschine vorhanden\, kann bei uns auch eine gegen Gebühr geliehen werden. Bei Bedarf beraten wir auch und verkaufen die passende Maschine. \nDer Nähmaschinenführerschein bildet die Grundlage für unsere weiteren Nähkurse. \nGetränke und Snacks sind im Kurs inbegriffen. \nDie Vergabe der Plätze erfolgt nach Reihenfolge der Anmeldung. Bei Anmeldung ist auch gleich die Kursgebühr zu entrichten\, damit ist ein Kursplatz reserviert und die Anmeldung ist verbindlich. Bei Nichtteilnahme besteht die Möglichkeit\, dass Sie einen „Ersatz-Teilnehmer“ schicken\, eine Rückerstattung ist nicht möglich.
URL:https://www.stoff-versand.de/veranstaltung/naehmaschinenfuehrerschein-kurs-fuer-kids-4/
LOCATION:Das Atelier\, Friedrichstr. 11\, Eberbach\, 69412\, Deutschland
ORGANIZER;CN="Das Atelier":MAILTO:info@stoff-versand.de
END:VEVENT
END:VCALENDAR