BEGIN:VCALENDAR
VERSION:2.0
PRODID:-//Das Atelier - ECPv6.13.0//NONSGML v1.0//EN
CALSCALE:GREGORIAN
METHOD:PUBLISH
X-ORIGINAL-URL:https://www.stoff-versand.de
X-WR-CALDESC:Veranstaltungen für Das Atelier
REFRESH-INTERVAL;VALUE=DURATION:PT1H
X-Robots-Tag:noindex
X-PUBLISHED-TTL:PT1H
BEGIN:VTIMEZONE
TZID:Europe/Berlin
BEGIN:DAYLIGHT
TZOFFSETFROM:+0100
TZOFFSETTO:+0200
TZNAME:CEST
DTSTART:20230326T010000
END:DAYLIGHT
BEGIN:STANDARD
TZOFFSETFROM:+0200
TZOFFSETTO:+0100
TZNAME:CET
DTSTART:20231029T010000
END:STANDARD
END:VTIMEZONE
BEGIN:VEVENT
DTSTART;TZID=Europe/Berlin:20230513T093000
DTEND;TZID=Europe/Berlin:20230513T123000
DTSTAMP:20260422T043226
CREATED:20230320T145449Z
LAST-MODIFIED:20230328T112717Z
UID:9198-1683970200-1683981000@www.stoff-versand.de
SUMMARY:Patchwork-Kissen - Kurs für Kids
DESCRIPTION:Patchwork-Starter-Kurs \nWir lernen akkurat und sauber Stoffstücke aneinander zu nähen und fertigen auf der Rückseite einen Hotelverschluss. \nAm Ende haben wir eine Kissenhülle für ein 40x40cm und benötigen dann nur noch das passende Inlett. \nDie Materialgebühr für den Stoff ist in der Kursgebühr enthalten. \nBitte Nähmaschine und Werkzeug mitbringen. \nPassender Nähfaden kann\, falls nicht vorhanden\, im Atelier gekauft werden. Auch haben wir passende Feder-Inletts zu verkaufen. \nGetränke und Snacks sind im Kurs inbegriffen. \nDie Vergabe der Plätze erfolgt nach Reihenfolge der Anmeldung. Bei Anmeldung ist auch gleich die Kursgebühr zu entrichten\, damit ist ein Kursplatz reserviert und die Anmeldung ist verbindlich. Bei Nichtteilnahme besteht die Möglichkeit\, dass Sie einen „Ersatz-Teilnehmer“ schicken\, eine Rückerstattung ist nicht möglich. \n  \n 
URL:https://www.stoff-versand.de/veranstaltung/patchwork-kissen-kurs-fuer-kids/
LOCATION:Das Atelier\, Friedrichstr. 11\, Eberbach\, 69412\, Deutschland
CATEGORIES:Kindernähkurs,Leicht fortgeschrittenen Kurs
ORGANIZER;CN="Das Atelier":MAILTO:info@stoff-versand.de
END:VEVENT
BEGIN:VEVENT
DTSTART;TZID=Europe/Berlin:20230515T180000
DTEND;TZID=Europe/Berlin:20230515T220000
DTSTAMP:20260422T043226
CREATED:20230320T141120Z
LAST-MODIFIED:20230328T111906Z
UID:9176-1684173600-1684188000@www.stoff-versand.de
SUMMARY:Bauchtaschenkurs -Kurs für Erwachsene
DESCRIPTION:  \nWir nähen eine moderne Bauchtasche mit Reißverschluss. Entweder als typische Bauchtasche oder eben auch cool getragen cross over. \nSie ist gefüttert und hat 2 verschiedene Reißverschluss-Verarbeitungen. \nUmgang mit der Nähmaschine und  Nähkenntnisse sollten vorhanden sein. \nDie Kursgebühr ist gleich bei der Buchung hier fällig und die Materialkosten werden dann am Kurstag abgerechnet. \n  \nGetränke und Snacks sind im Kurs inbegriffen. \nDie Vergabe der Plätze erfolgt nach Reihenfolge der Anmeldung. Bei Anmeldung ist auch gleich die Kursgebühr zu entrichten\, damit ist ein Kursplatz reserviert und die Anmeldung ist verbindlich. Bei Nichtteilnahme besteht die Möglichkeit\, dass Sie einen „Ersatz-Teilnehmer“ schicken\, eine Rückerstattung ist nicht möglich.
URL:https://www.stoff-versand.de/veranstaltung/bauchtaschenkurs-kurs-fuer-erwachsene/
LOCATION:Das Atelier\, Friedrichstr. 11\, Eberbach\, 69412\, Deutschland
CATEGORIES:Erwachsenennähkurs,Fortgeschrittenen Kurs
ORGANIZER;CN="Das Atelier":MAILTO:info@stoff-versand.de
END:VEVENT
END:VCALENDAR