BEGIN:VCALENDAR
VERSION:2.0
PRODID:-//Das Atelier - ECPv6.13.0//NONSGML v1.0//EN
CALSCALE:GREGORIAN
METHOD:PUBLISH
X-WR-CALNAME:Das Atelier
X-ORIGINAL-URL:https://www.stoff-versand.de
X-WR-CALDESC:Veranstaltungen für Das Atelier
REFRESH-INTERVAL;VALUE=DURATION:PT1H
X-Robots-Tag:noindex
X-PUBLISHED-TTL:PT1H
BEGIN:VTIMEZONE
TZID:Europe/Berlin
BEGIN:DAYLIGHT
TZOFFSETFROM:+0100
TZOFFSETTO:+0200
TZNAME:CEST
DTSTART:20230326T010000
END:DAYLIGHT
BEGIN:STANDARD
TZOFFSETFROM:+0200
TZOFFSETTO:+0100
TZNAME:CET
DTSTART:20231029T010000
END:STANDARD
END:VTIMEZONE
BEGIN:VEVENT
DTSTART;TZID=Europe/Berlin:20230204T093000
DTEND;TZID=Europe/Berlin:20230204T120000
DTSTAMP:20260422T092811
CREATED:20230109T113709Z
LAST-MODIFIED:20230109T113855Z
UID:8210-1675503000-1675512000@www.stoff-versand.de
SUMMARY:Nähmaschinenführerschein - Kurs für Erwachsene
DESCRIPTION:Dieser Kurs richtet sich an Nähanfänger. \nIn diesem Kurs erlernt man grundlegende Kenntnisse und den sicheren Umgang mit Ihrer Nähmaschine. \nEinfädeln\, Spulen\, Nadelwahl\, Fadenspannung\, Nutz- und Zierstiche usw. \nAuch wenn Sie bereits erste Näherfahrungen gesammelt habt\, ist dieser Kurs trotzdem sicher hilfreich und den einen oder anderen Trick und Kniff kennt Ihr bestimmt noch nicht ! \nAm Ende des Kurses wird auch noch ein kleines Werkstück angefertigt und die neuen Nähkenntnisse werden gleich angewendet. \nDas Material hierfür ist im Kurs inbegriffen. \nDie Nähmaschine sollte mitgebracht werden. Wir sprechen sie einmal komplett durch und erklären alles\, dass Sie danach fit sind und sofort loslegen können. \nFalls keine Nähmaschine vorhanden\, kann bei uns auch eine gegen Gebühr geliehen werden. Bei Bedarf beraten wir auch und verkaufen die passende Maschine. \nDer Nähmaschinenführerschein bildet die Grundlage für unsere weiteren Nähkurse. \nGetränke und Snacks sind im Kurs inbegriffen. \nDie Vergabe der Plätze erfolgt nach Reihenfolge der Anmeldung. Bei Anmeldung ist auch gleich die Kursgebühr  zu entrichten\, damit ist ein Kursplatz reserviert und die Anmeldung ist verbindlich. \n 
URL:https://www.stoff-versand.de/veranstaltung/naehmaschinenfuehrerschein-kurs-fuer-erwachsene/
LOCATION:Das Atelier\, Friedrichstr. 11\, Eberbach\, 69412\, Deutschland
CATEGORIES:Anfängerkurs,Erwachsenennähkurs
ORGANIZER;CN="Das Atelier":MAILTO:info@stoff-versand.de
END:VEVENT
BEGIN:VEVENT
DTSTART;TZID=Europe/Berlin:20230224T100000
DTEND;TZID=Europe/Berlin:20230224T123000
DTSTAMP:20260422T092811
CREATED:20230109T114413Z
LAST-MODIFIED:20230223T125616Z
UID:8217-1677232800-1677241800@www.stoff-versand.de
SUMMARY:Nähmaschinenführerschein - Kurs für Kids
DESCRIPTION:Dieser Kurs richtet sich an junge Nähanfänger. \nIn diesem Kurs erlernt man grundlegende Kenntnisse und den sicheren Umgang mit Eurer Nähmaschine. \nEinfädeln\, Spulen\, Nadelwahl\, Fadenspannung\, Nutz- und Zierstiche usw. \nAuch wenn Ihr bereits erste Näherfahrungen gesammelt habt\, ist dieser Kurs trotzdem sicher hilfreich und den einen oder anderen Trick und Kniff kennt Ihr bestimmt noch nicht ! \nAm Ende des Kurses wird auch noch ein kleines Werkstück angefertigt und die neuen Nähkenntnisse werden gleich angewendet. \nDas Material hierfür ist im Kurs inbegriffen. \nDie Nähmaschine sollte mitgebracht werden. Wir sprechen sie einmal komplett durch und erklären alles\, dass Ihr danach fit seid und sofort loslegen könnt. \nFalls keine Nähmaschine vorhanden\, kann bei uns auch eine gegen Gebühr geliehen werden. Bei Bedarf beraten wir auch und verkaufen die passende Maschine. \nDer Nähmaschinenführerschein bildet die Grundlage für unsere weiteren Nähkurse. \nGetränke und Snacks sind im Kurs inbegriffen. \nDie Vergabe der Plätze erfolgt nach Reihenfolge der Anmeldung. Bei Anmeldung ist auch gleich die Kursgebühr  zu entrichten\, damit ist ein Kursplatz reserviert und die Anmeldung ist verbindlich.
URL:https://www.stoff-versand.de/veranstaltung/naehmaschinenfuehrerschein-kurs-fuer-kids/
LOCATION:Das Atelier\, Friedrichstr. 11\, Eberbach\, 69412\, Deutschland
CATEGORIES:Anfängerkurs,Kindernähkurs
ORGANIZER;CN="Das Atelier":MAILTO:info@stoff-versand.de
END:VEVENT
END:VCALENDAR