BEGIN:VCALENDAR
VERSION:2.0
PRODID:-//Das Atelier - ECPv6.13.0//NONSGML v1.0//EN
CALSCALE:GREGORIAN
METHOD:PUBLISH
X-ORIGINAL-URL:https://www.stoff-versand.de
X-WR-CALDESC:Veranstaltungen für Das Atelier
REFRESH-INTERVAL;VALUE=DURATION:PT1H
X-Robots-Tag:noindex
X-PUBLISHED-TTL:PT1H
BEGIN:VTIMEZONE
TZID:Europe/Berlin
BEGIN:DAYLIGHT
TZOFFSETFROM:+0100
TZOFFSETTO:+0200
TZNAME:CEST
DTSTART:20230326T010000
END:DAYLIGHT
BEGIN:STANDARD
TZOFFSETFROM:+0200
TZOFFSETTO:+0100
TZNAME:CET
DTSTART:20231029T010000
END:STANDARD
END:VTIMEZONE
BEGIN:VEVENT
DTSTART;TZID=Europe/Berlin:20230121T100000
DTEND;TZID=Europe/Berlin:20230121T130000
DTSTAMP:20260422T105118
CREATED:20230117T122928Z
LAST-MODIFIED:20230117T124910Z
UID:8439-1674295200-1674306000@www.stoff-versand.de
SUMMARY:STICKEVENT: Kennenlernen der Brother Stickmaschinen
DESCRIPTION:Wen reizt das Thema MASCHINENSTICKEN und wer möchte solch eine tolle Maschine einmal live erleben und auch damit arbeiten? \nDann ist dieser Workshop genau das Richtige! \nIn drei Stunden werden verschiedene Stickmaschinen der Firma Brother vorgestellt und auch die Artspira App\, mit der man dann selbst kreativ werden kann. \nWir zeigen Ihnen\, wie Sie Ihre kreativen Ideen umsetzen können und arbeiten dann in der Gruppe praktisch mit den Maschinen\, so dass jeder Teilnehmer auch noch ein Projekt mit nach Hause nehmen darf. \nEs handelt sich bei dieser Veranstaltung um eine Beratungs- und Verkaufsveranstaltung und nicht um einen Stickkurs! \nWenn Sie sich für den Kauf einer Maschine in unserem Fachhandel entscheiden\, haben wir  für Sie attraktive Angebote geschnürt und die Workshop-Gebühr wird auch noch verrechnet! \n  \nAußerdem bieten wir als Fachhändler Ihnen: \n\nLangjährige Erfahrung\nAusführliche Beratung und Einweisung\nHausinterner Werkstatt- und Reparaturservice\nAbwicklung von Garantiefällen\nAnsprechpartner auch über den Verkauf hinaus\n\n 
URL:https://www.stoff-versand.de/veranstaltung/stickevent-kennenlernen-der-brother-stickmaschinen/
LOCATION:Das Atelier\, Friedrichstr. 11\, Eberbach\, 69412\, Deutschland
CATEGORIES:Anfängerkurs,Erwachsenennähkurs
ORGANIZER;CN="Das Atelier":MAILTO:info@stoff-versand.de
END:VEVENT
END:VCALENDAR