BEGIN:VCALENDAR
VERSION:2.0
PRODID:-//Das Atelier - ECPv6.13.0//NONSGML v1.0//EN
CALSCALE:GREGORIAN
METHOD:PUBLISH
X-ORIGINAL-URL:https://www.stoff-versand.de
X-WR-CALDESC:Veranstaltungen für Das Atelier
REFRESH-INTERVAL;VALUE=DURATION:PT1H
X-Robots-Tag:noindex
X-PUBLISHED-TTL:PT1H
BEGIN:VTIMEZONE
TZID:Europe/Berlin
BEGIN:DAYLIGHT
TZOFFSETFROM:+0100
TZOFFSETTO:+0200
TZNAME:CEST
DTSTART:20270328T010000
END:DAYLIGHT
BEGIN:STANDARD
TZOFFSETFROM:+0200
TZOFFSETTO:+0100
TZNAME:CET
DTSTART:20271031T010000
END:STANDARD
END:VTIMEZONE
BEGIN:VEVENT
DTSTART;TZID=Europe/Berlin:20270416T140000
DTEND;TZID=Europe/Berlin:20270418T160000
DTSTAMP:20260419T170523
CREATED:20260407T195404Z
LAST-MODIFIED:20260411T210014Z
UID:15394-1807884000-1808064000@www.stoff-versand.de
SUMMARY:Eberbach näht 2027
DESCRIPTION:Triff Menschen\, die das gleiche tolle Hobby haben\, wie Du: Nähen mit Spaß und Leidenschaft!\nWir organisieren das Nähevent und Ihr näht Euch gemeinsam ein ganzes Wochenende glücklich!\n\n  \nEberbach Näht geht ins 4. Jahr und wir freuen uns sehr über die Fortsetzung dieser Veranstaltung in Eberbach! \n\nGenäht wird am Freitag\, 16.04.2027 von 14:00-18:00 Uhr\, Samstag\, 17.04.2027 von 10:00-18:00 Uhr und Sonntag\, 18.04.2027 von 10:00-16:00 Uhr in einem großen\, hellen Saal ganz in der Nähe unseres Geschäftes. Wir sind also mitten in der Innenstadt. \nParkmöglichkeiten sind vorhanden. \nFür kalte Getränke\, Tee und Kaffee wird gesorgt.\nEbenso für gemeinsame Mittagessen und Kuchen am Nachmittag.\nNervennahrung gibts an unserer Candybar. \nWas Du mitbringst: \n\nDeine Nähmaschine(n)\nAlles für Deine geplanten Näh-Projekte (Stoffe\, Zutaten\, Schnitte usw.)\nEventuell unvollendete Nähprojekte – bei denen man einfach einmal einen Schubs braucht\, eine gute Idee oder das Wissen der Anderen.\n\nÜbernachtungen: \nWer eine Übernachtungsmöglichkeit sucht\, bekommt von uns eine Liste mit Adressen und Kontaktdaten. \nEin Frühstückscafé gibt es direkt neben unserer Location und es sind auch Restaurants in Laufnähe vorhanden\, da wir mitten in der Innenstadt sind. \nTickets: \nDie Tickets für dieses Event sind hier in unserem Webshop direkt unten auf dieser Seite buchbar. \n  \nEs werden verschiedene GRATIS-Workshops angeboten – hierzu stecken wir in der Planung und werden per Mail ( ca. 14 Tage vor der Veranstaltung) eine Aufstellung zuschicken. \nJeder Teilnehmer erhält auch ein gut gefülltes Goodie-Bag von uns\, im Wert von mindestens 80 Euro ! \nAb zwei Wochen vor der Veranstaltung kannst Du Dich in unserem Stoffgeschäft „Das Atelier“ in Eberbach rund um Stoffe\, Zutaten und Nähmaschinen beraten lassen und zum Aktionspreis alles für Dein geplantes Nähprojekt einkaufen. \nDies gilt natürlich auch für unseren Onlineshop www.stoff-versand.de \nNimm Dir Zeit für Dich und Dein Hobby! Ran an die Nähmaschine\, knüpfe neue Kontakte\, finde neue Bekannte und vielleicht auch Freunde! \nWir freuen uns riesig auf Dein Kommen und auf ein kreatives\, gemeinsames Wochenende in Eberbach! \nBitte beachten : \nDiese Veranstaltung ist KEIN NÄHKURS! \nWenn Zeit ist helfen wir gerne. Aber bei der Größe dieser Veranstaltung können wir keine Rundum-Betreuung leisten. \n\nBis 31.12.2026 gibt es wieder einen Frühbucher-Rabatt von 169 Euro. \nAb Januar 2027 kostet die Veranstaltung dann 189 Euro. \nStornierung ist leider nicht möglich. Aber falls Ihr leider doch nicht teilnehmen könnt\, Eure Karte ist übertragbar und gerne dürft Ihr dann jemand Anderen schicken 🙂 \n 
URL:https://www.stoff-versand.de/veranstaltung/eberbach-naeht-2027/
LOCATION:Eberbach näht/Stadthalle\, Eberbach\, Baden-Württemberg\, 69412
CATEGORIES:Näh-Treffen
ORGANIZER;CN="Das Atelier":MAILTO:info@stoff-versand.de
END:VEVENT
END:VCALENDAR